BEGIN:VCALENDAR
VERSION:2.0
PRODID:-//Armour&#039;s Hotel &amp; Spa - ECPv6.15.17.1//NONSGML v1.0//EN
CALSCALE:GREGORIAN
METHOD:PUBLISH
X-ORIGINAL-URL:https://www.armourshotel.com
X-WR-CALDESC:Events for Armour&#039;s Hotel &amp; Spa
REFRESH-INTERVAL;VALUE=DURATION:PT1H
X-Robots-Tag:noindex
X-PUBLISHED-TTL:PT1H
BEGIN:VTIMEZONE
TZID:America/Chicago
BEGIN:DAYLIGHT
TZOFFSETFROM:-0600
TZOFFSETTO:-0500
TZNAME:CDT
DTSTART:20250309T080000
END:DAYLIGHT
BEGIN:STANDARD
TZOFFSETFROM:-0500
TZOFFSETTO:-0600
TZNAME:CST
DTSTART:20251102T070000
END:STANDARD
BEGIN:DAYLIGHT
TZOFFSETFROM:-0600
TZOFFSETTO:-0500
TZNAME:CDT
DTSTART:20260308T080000
END:DAYLIGHT
BEGIN:STANDARD
TZOFFSETFROM:-0500
TZOFFSETTO:-0600
TZNAME:CST
DTSTART:20261101T070000
END:STANDARD
BEGIN:DAYLIGHT
TZOFFSETFROM:-0600
TZOFFSETTO:-0500
TZNAME:CDT
DTSTART:20270314T080000
END:DAYLIGHT
BEGIN:STANDARD
TZOFFSETFROM:-0500
TZOFFSETTO:-0600
TZNAME:CST
DTSTART:20271107T070000
END:STANDARD
END:VTIMEZONE
BEGIN:VTIMEZONE
TZID:UTC
BEGIN:STANDARD
TZOFFSETFROM:+0000
TZOFFSETTO:+0000
TZNAME:UTC
DTSTART:20210101T000000
END:STANDARD
END:VTIMEZONE
BEGIN:VEVENT
DTSTART;VALUE=DATE:20260327
DTEND;VALUE=DATE:20260330
DTSTAMP:20260424T111314
CREATED:20260120T224719Z
LAST-MODIFIED:20260120T230521Z
UID:10000573-1774569600-1774828799@www.armourshotel.com
SUMMARY:Comedy Dinner Theatre at The Thomas House
DESCRIPTION:Stagestruck Productions\n2026 Dinner Theatre Schedule\nThe Thomas House\nRed Boiling Springs\, Tennessee\nFriday and Saturday Evenings start at 7 pm\nSunday Matinees start at 1 pm\nThis year we’ve got two weekends for each production. \n\nRevival!\nMarch 20\, 21\, 22 (Matinee) 27\, 28\, 29 (Matinee)\nSteel Magnolias\nMay 29\, 30\, 31 (Matinee)\, June 5\, 6\, 7 (Matinee)\nHayberry\, Where???\nAug. 28\, 29\, 30 (Matinee) Sept. 4\, 5\, 6 (Matinee)\nTuna Christmas\nDecember 4\, 5\, 6 (Matinee)\, 11\, 12\, 13 (Matinee)
URL:https://www.armourshotel.com/event/dinner-theatre-thomas-house-mar27/
LOCATION:The Thomas House\, 520 E. Main St.\, Red Boiling Springs\, Tennessee\, 37150
CATEGORIES:Red Boiling Springs,Theater
ATTACH;FMTTYPE=image/jpeg:https://www.armourshotel.com/wp-content/uploads/2026/01/2026-Stagestruck-Productions.jpg
ORGANIZER;CN="The Thomas House":MAILTO:thomashouse@nctc.com
END:VEVENT
BEGIN:VEVENT
DTSTART;VALUE=DATE:20260320
DTEND;VALUE=DATE:20260323
DTSTAMP:20260424T111314
CREATED:20260120T205737Z
LAST-MODIFIED:20260120T230629Z
UID:10000572-1773964800-1774223999@www.armourshotel.com
SUMMARY:Comedy Dinner Theatre at The Thomas House
DESCRIPTION:Stagestruck Productions\n2026 Dinner Theatre Schedule\nThe Thomas House\nRed Boiling Springs\, Tennessee\nFriday and Saturday Evenings start at 7 pm\nSunday Matinees start at 1 pm\nThis year we’ve got two weekends for each production. \n\nRevival!\nMarch 20\, 21\, 22 (Matinee) 27\, 28\, 29 (Matinee)\nSteel Magnolias\nMay 29\, 30\, 31 (Matinee)\, June 5\, 6\, 7 (Matinee)\nHayberry\, Where???\nAug. 28\, 29\, 30 (Matinee) Sept. 4\, 5\, 6 (Matinee)\nTuna Christmas\nDecember 4\, 5\, 6 (Matinee)\, 11\, 12\, 13 (Matinee)
URL:https://www.armourshotel.com/event/dinner-theatre-thomas-house-mar20/
LOCATION:The Thomas House\, 520 E. Main St.\, Red Boiling Springs\, Tennessee\, 37150
CATEGORIES:Red Boiling Springs,Theater
ATTACH;FMTTYPE=image/jpeg:https://www.armourshotel.com/wp-content/uploads/2026/01/2026-Stagestruck-Productions.jpg
ORGANIZER;CN="The Thomas House":MAILTO:thomashouse@nctc.com
END:VEVENT
BEGIN:VEVENT
DTSTART;TZID=America/Chicago:20260130T180000
DTEND;TZID=America/Chicago:20260130T200000
DTSTAMP:20260424T111314
CREATED:20260120T040354Z
LAST-MODIFIED:20260120T164521Z
UID:10000571-1769796000-1769803200@www.armourshotel.com
SUMMARY:Tennessee's Singer Song Writer Qualifying Competition in Red Boiling Springs
DESCRIPTION:Join us for a special evening of music\, food\, and a unique opportunity to bid on a guitar signed by several musicians\, including country music artist Ronnie McDowell. \n\n Dinner served at 6:00 PM\n Songwriters Competition begins at 7:00 PM\n\n\nThe signed guitar will be available for live bidding during the Songwriters Competition\, making this a memorable chance to enjoy an evening of original music and take home a special piece of music memorabilia.\n\n\n Call 615-699-3006 to reserve your seat for dinner.\n\n\n Come for the music\, stay for the experience\, and place your bid on a truly unique signed guitar.
URL:https://www.armourshotel.com/event/tennessees-singer-song-writer-qualifying-competition-in-red-boiling-springs/
LOCATION:The Thomas House\, 520 E. Main St.\, Red Boiling Springs\, Tennessee\, 37150
CATEGORIES:Live Music,Red Boiling Springs
ATTACH;FMTTYPE=image/jpeg:https://www.armourshotel.com/wp-content/uploads/2026/01/Singer-Songwriter-2026-Guitar-bid.jpg
ORGANIZER;CN="Vision 2020 Inc.":MAILTO:vision2020@nctc.com
END:VEVENT
BEGIN:VEVENT
DTSTART;TZID=UTC:20220409T100000
DTEND;TZID=UTC:20220409T180000
DTSTAMP:20260424T111314
CREATED:20220404T175709Z
LAST-MODIFIED:20220404T194008Z
UID:10000075-1649498400-1649527200@www.armourshotel.com
SUMMARY:Red Boiling Springs Music Festival and Marketplace
DESCRIPTION:Music\, shopping and food. Bring your chair and plan to stay for the whole day. $5 a person /6 & under free.  Music starts at 12 pm.
URL:https://www.armourshotel.com/event/red-boiling-springs-music-festival-and-marketplace/
LOCATION:Old Lake Park\, 49 Old Lake Road\, Red Boiling Springs\, 37150\, United States
CATEGORIES:Live Music,Red Boiling Springs
ATTACH;FMTTYPE=image/jpeg:https://www.armourshotel.com/wp-content/uploads/2022/04/RBS-Market-Place-Apr-9.2022.jpg
ORGANIZER;CN="37150 Community Center%2C Inc.":MAILTO:37150CommunityCenter@gmail.com
END:VEVENT
END:VCALENDAR