BEGIN:VCALENDAR
VERSION:2.0
PRODID:-//Armour&#039;s Hotel &amp; Spa - ECPv6.15.17.1//NONSGML v1.0//EN
CALSCALE:GREGORIAN
METHOD:PUBLISH
X-WR-CALNAME:Armour&#039;s Hotel &amp; Spa
X-ORIGINAL-URL:https://www.armourshotel.com
X-WR-CALDESC:Events for Armour&#039;s Hotel &amp; Spa
REFRESH-INTERVAL;VALUE=DURATION:PT1H
X-Robots-Tag:noindex
X-PUBLISHED-TTL:PT1H
BEGIN:VTIMEZONE
TZID:America/Chicago
BEGIN:DAYLIGHT
TZOFFSETFROM:-0600
TZOFFSETTO:-0500
TZNAME:CDT
DTSTART:20250309T080000
END:DAYLIGHT
BEGIN:STANDARD
TZOFFSETFROM:-0500
TZOFFSETTO:-0600
TZNAME:CST
DTSTART:20251102T070000
END:STANDARD
BEGIN:DAYLIGHT
TZOFFSETFROM:-0600
TZOFFSETTO:-0500
TZNAME:CDT
DTSTART:20260308T080000
END:DAYLIGHT
BEGIN:STANDARD
TZOFFSETFROM:-0500
TZOFFSETTO:-0600
TZNAME:CST
DTSTART:20261101T070000
END:STANDARD
BEGIN:DAYLIGHT
TZOFFSETFROM:-0600
TZOFFSETTO:-0500
TZNAME:CDT
DTSTART:20270314T080000
END:DAYLIGHT
BEGIN:STANDARD
TZOFFSETFROM:-0500
TZOFFSETTO:-0600
TZNAME:CST
DTSTART:20271107T070000
END:STANDARD
END:VTIMEZONE
BEGIN:VEVENT
DTSTART;TZID=America/Chicago:20260425T180000
DTEND;TZID=America/Chicago:20260425T200000
DTSTAMP:20260424T094440
CREATED:20240123T193103Z
LAST-MODIFIED:20260120T003056Z
UID:10000520-1777140000-1777147200@www.armourshotel.com
SUMMARY:Fourth Saturday Jam
DESCRIPTION:Every 4th Saturday at The Armour’s Hotel\, come enjoy dinner and the sweet sounds of musicians for a Tennessee Jam Session.  The music and food will fill your soul.  The band eats at 5:30\, and the music starts after that around 6 pm.  Reservations for dinner are required.   Join us for dinner and/or dessert.   All the food is home cooked and delicious.
URL:https://www.armourshotel.com/event/armours-fourth-saturday-jam-2022-05-28-2/2026-04-25/
LOCATION:The Armour’s Hotel & Spa\, 321 E. Main St.\, Red Boiling Springs\, TN\, 37150
CATEGORIES:Armour's Hotel Events,Live Music
ATTACH;FMTTYPE=image/jpeg:https://www.armourshotel.com/wp-content/uploads/2022/03/2022-03-26-20.08.43-scaled-e1648783844165.jpg
END:VEVENT
BEGIN:VEVENT
DTSTART;TZID=America/Chicago:20260523T180000
DTEND;TZID=America/Chicago:20260523T200000
DTSTAMP:20260424T094440
CREATED:20240123T193103Z
LAST-MODIFIED:20260120T003056Z
UID:10000521-1779559200-1779566400@www.armourshotel.com
SUMMARY:Fourth Saturday Jam
DESCRIPTION:Every 4th Saturday at The Armour’s Hotel\, come enjoy dinner and the sweet sounds of musicians for a Tennessee Jam Session.  The music and food will fill your soul.  The band eats at 5:30\, and the music starts after that around 6 pm.  Reservations for dinner are required.   Join us for dinner and/or dessert.   All the food is home cooked and delicious.
URL:https://www.armourshotel.com/event/armours-fourth-saturday-jam-2022-05-28-2/2026-05-23/
LOCATION:The Armour’s Hotel & Spa\, 321 E. Main St.\, Red Boiling Springs\, TN\, 37150
CATEGORIES:Armour's Hotel Events,Live Music
ATTACH;FMTTYPE=image/jpeg:https://www.armourshotel.com/wp-content/uploads/2022/03/2022-03-26-20.08.43-scaled-e1648783844165.jpg
END:VEVENT
BEGIN:VEVENT
DTSTART;TZID=America/Chicago:20260627T180000
DTEND;TZID=America/Chicago:20260627T200000
DTSTAMP:20260424T094440
CREATED:20240123T193103Z
LAST-MODIFIED:20260120T003056Z
UID:10000522-1782583200-1782590400@www.armourshotel.com
SUMMARY:Fourth Saturday Jam
DESCRIPTION:Every 4th Saturday at The Armour’s Hotel\, come enjoy dinner and the sweet sounds of musicians for a Tennessee Jam Session.  The music and food will fill your soul.  The band eats at 5:30\, and the music starts after that around 6 pm.  Reservations for dinner are required.   Join us for dinner and/or dessert.   All the food is home cooked and delicious.
URL:https://www.armourshotel.com/event/armours-fourth-saturday-jam-2022-05-28-2/2026-06-27/
LOCATION:The Armour’s Hotel & Spa\, 321 E. Main St.\, Red Boiling Springs\, TN\, 37150
CATEGORIES:Armour's Hotel Events,Live Music
ATTACH;FMTTYPE=image/jpeg:https://www.armourshotel.com/wp-content/uploads/2022/03/2022-03-26-20.08.43-scaled-e1648783844165.jpg
END:VEVENT
BEGIN:VEVENT
DTSTART;TZID=America/Chicago:20260725T180000
DTEND;TZID=America/Chicago:20260725T200000
DTSTAMP:20260424T094440
CREATED:20240123T193103Z
LAST-MODIFIED:20260120T003056Z
UID:10000523-1785002400-1785009600@www.armourshotel.com
SUMMARY:Fourth Saturday Jam
DESCRIPTION:Every 4th Saturday at The Armour’s Hotel\, come enjoy dinner and the sweet sounds of musicians for a Tennessee Jam Session.  The music and food will fill your soul.  The band eats at 5:30\, and the music starts after that around 6 pm.  Reservations for dinner are required.   Join us for dinner and/or dessert.   All the food is home cooked and delicious.
URL:https://www.armourshotel.com/event/armours-fourth-saturday-jam-2022-05-28-2/2026-07-25/
LOCATION:The Armour’s Hotel & Spa\, 321 E. Main St.\, Red Boiling Springs\, TN\, 37150
CATEGORIES:Armour's Hotel Events,Live Music
ATTACH;FMTTYPE=image/jpeg:https://www.armourshotel.com/wp-content/uploads/2022/03/2022-03-26-20.08.43-scaled-e1648783844165.jpg
END:VEVENT
BEGIN:VEVENT
DTSTART;TZID=America/Chicago:20260822T180000
DTEND;TZID=America/Chicago:20260822T200000
DTSTAMP:20260424T094440
CREATED:20240123T193103Z
LAST-MODIFIED:20260120T003056Z
UID:10000524-1787421600-1787428800@www.armourshotel.com
SUMMARY:Fourth Saturday Jam
DESCRIPTION:Every 4th Saturday at The Armour’s Hotel\, come enjoy dinner and the sweet sounds of musicians for a Tennessee Jam Session.  The music and food will fill your soul.  The band eats at 5:30\, and the music starts after that around 6 pm.  Reservations for dinner are required.   Join us for dinner and/or dessert.   All the food is home cooked and delicious.
URL:https://www.armourshotel.com/event/armours-fourth-saturday-jam-2022-05-28-2/2026-08-22/
LOCATION:The Armour’s Hotel & Spa\, 321 E. Main St.\, Red Boiling Springs\, TN\, 37150
CATEGORIES:Armour's Hotel Events,Live Music
ATTACH;FMTTYPE=image/jpeg:https://www.armourshotel.com/wp-content/uploads/2022/03/2022-03-26-20.08.43-scaled-e1648783844165.jpg
END:VEVENT
BEGIN:VEVENT
DTSTART;TZID=America/Chicago:20260926T180000
DTEND;TZID=America/Chicago:20260926T200000
DTSTAMP:20260424T094440
CREATED:20240123T193103Z
LAST-MODIFIED:20260120T003056Z
UID:10000525-1790445600-1790452800@www.armourshotel.com
SUMMARY:Fourth Saturday Jam
DESCRIPTION:Every 4th Saturday at The Armour’s Hotel\, come enjoy dinner and the sweet sounds of musicians for a Tennessee Jam Session.  The music and food will fill your soul.  The band eats at 5:30\, and the music starts after that around 6 pm.  Reservations for dinner are required.   Join us for dinner and/or dessert.   All the food is home cooked and delicious.
URL:https://www.armourshotel.com/event/armours-fourth-saturday-jam-2022-05-28-2/2026-09-26/
LOCATION:The Armour’s Hotel & Spa\, 321 E. Main St.\, Red Boiling Springs\, TN\, 37150
CATEGORIES:Armour's Hotel Events,Live Music
ATTACH;FMTTYPE=image/jpeg:https://www.armourshotel.com/wp-content/uploads/2022/03/2022-03-26-20.08.43-scaled-e1648783844165.jpg
END:VEVENT
BEGIN:VEVENT
DTSTART;TZID=America/Chicago:20261024T180000
DTEND;TZID=America/Chicago:20261024T200000
DTSTAMP:20260424T094440
CREATED:20240123T193103Z
LAST-MODIFIED:20260120T003056Z
UID:10000526-1792864800-1792872000@www.armourshotel.com
SUMMARY:Fourth Saturday Jam
DESCRIPTION:Every 4th Saturday at The Armour’s Hotel\, come enjoy dinner and the sweet sounds of musicians for a Tennessee Jam Session.  The music and food will fill your soul.  The band eats at 5:30\, and the music starts after that around 6 pm.  Reservations for dinner are required.   Join us for dinner and/or dessert.   All the food is home cooked and delicious.
URL:https://www.armourshotel.com/event/armours-fourth-saturday-jam-2022-05-28-2/2026-10-24/
LOCATION:The Armour’s Hotel & Spa\, 321 E. Main St.\, Red Boiling Springs\, TN\, 37150
CATEGORIES:Armour's Hotel Events,Live Music
ATTACH;FMTTYPE=image/jpeg:https://www.armourshotel.com/wp-content/uploads/2022/03/2022-03-26-20.08.43-scaled-e1648783844165.jpg
END:VEVENT
END:VCALENDAR