BEGIN:VCALENDAR
VERSION:2.0
PRODID:-//Armour&#039;s Hotel &amp; Spa - ECPv6.15.17.1//NONSGML v1.0//EN
CALSCALE:GREGORIAN
METHOD:PUBLISH
X-ORIGINAL-URL:https://www.armourshotel.com
X-WR-CALDESC:Events for Armour&#039;s Hotel &amp; Spa
REFRESH-INTERVAL;VALUE=DURATION:PT1H
X-Robots-Tag:noindex
X-PUBLISHED-TTL:PT1H
BEGIN:VTIMEZONE
TZID:America/Chicago
BEGIN:DAYLIGHT
TZOFFSETFROM:-0600
TZOFFSETTO:-0500
TZNAME:CDT
DTSTART:20210314T080000
END:DAYLIGHT
BEGIN:STANDARD
TZOFFSETFROM:-0500
TZOFFSETTO:-0600
TZNAME:CST
DTSTART:20211107T070000
END:STANDARD
BEGIN:DAYLIGHT
TZOFFSETFROM:-0600
TZOFFSETTO:-0500
TZNAME:CDT
DTSTART:20220313T080000
END:DAYLIGHT
BEGIN:STANDARD
TZOFFSETFROM:-0500
TZOFFSETTO:-0600
TZNAME:CST
DTSTART:20221106T070000
END:STANDARD
BEGIN:DAYLIGHT
TZOFFSETFROM:-0600
TZOFFSETTO:-0500
TZNAME:CDT
DTSTART:20230312T080000
END:DAYLIGHT
BEGIN:STANDARD
TZOFFSETFROM:-0500
TZOFFSETTO:-0600
TZNAME:CST
DTSTART:20231105T070000
END:STANDARD
BEGIN:DAYLIGHT
TZOFFSETFROM:-0600
TZOFFSETTO:-0500
TZNAME:CDT
DTSTART:20240310T080000
END:DAYLIGHT
BEGIN:STANDARD
TZOFFSETFROM:-0500
TZOFFSETTO:-0600
TZNAME:CST
DTSTART:20241103T070000
END:STANDARD
BEGIN:DAYLIGHT
TZOFFSETFROM:-0600
TZOFFSETTO:-0500
TZNAME:CDT
DTSTART:20250309T080000
END:DAYLIGHT
BEGIN:STANDARD
TZOFFSETFROM:-0500
TZOFFSETTO:-0600
TZNAME:CST
DTSTART:20251102T070000
END:STANDARD
BEGIN:DAYLIGHT
TZOFFSETFROM:-0600
TZOFFSETTO:-0500
TZNAME:CDT
DTSTART:20260308T080000
END:DAYLIGHT
BEGIN:STANDARD
TZOFFSETFROM:-0500
TZOFFSETTO:-0600
TZNAME:CST
DTSTART:20261101T070000
END:STANDARD
BEGIN:DAYLIGHT
TZOFFSETFROM:-0600
TZOFFSETTO:-0500
TZNAME:CDT
DTSTART:20270314T080000
END:DAYLIGHT
BEGIN:STANDARD
TZOFFSETFROM:-0500
TZOFFSETTO:-0600
TZNAME:CST
DTSTART:20271107T070000
END:STANDARD
END:VTIMEZONE
BEGIN:VEVENT
DTSTART;TZID=America/Chicago:20260130T180000
DTEND;TZID=America/Chicago:20260130T200000
DTSTAMP:20260424T111238
CREATED:20260120T040354Z
LAST-MODIFIED:20260120T164521Z
UID:10000571-1769796000-1769803200@www.armourshotel.com
SUMMARY:Tennessee's Singer Song Writer Qualifying Competition in Red Boiling Springs
DESCRIPTION:Join us for a special evening of music\, food\, and a unique opportunity to bid on a guitar signed by several musicians\, including country music artist Ronnie McDowell. \n\n Dinner served at 6:00 PM\n Songwriters Competition begins at 7:00 PM\n\n\nThe signed guitar will be available for live bidding during the Songwriters Competition\, making this a memorable chance to enjoy an evening of original music and take home a special piece of music memorabilia.\n\n\n Call 615-699-3006 to reserve your seat for dinner.\n\n\n Come for the music\, stay for the experience\, and place your bid on a truly unique signed guitar.
URL:https://www.armourshotel.com/event/tennessees-singer-song-writer-qualifying-competition-in-red-boiling-springs/
LOCATION:The Thomas House\, 520 E. Main St.\, Red Boiling Springs\, Tennessee\, 37150
CATEGORIES:Live Music,Red Boiling Springs
ATTACH;FMTTYPE=image/jpeg:https://www.armourshotel.com/wp-content/uploads/2026/01/Singer-Songwriter-2026-Guitar-bid.jpg
ORGANIZER;CN="Vision 2020 Inc.":MAILTO:vision2020@nctc.com
END:VEVENT
BEGIN:VEVENT
DTSTART;TZID=America/Chicago:20240601T090000
DTEND;TZID=America/Chicago:20240601T160000
DTSTAMP:20260424T111238
CREATED:20220415T034807Z
LAST-MODIFIED:20230127T230845Z
UID:10000082-1717232400-1717257600@www.armourshotel.com
SUMMARY:Folk Festival
DESCRIPTION:Folk Medicine Festival\nJune 4\, 2022\nRed Boiling Springs\, TN \n \nWhere healing arts practitioners\, biodynamic farmers\, organic gardeners\, artists\, craftsmen\, singers\, musicians\, dancers\, storytellers all come together on the banks of Salt Lick Creek in Red Boiling Springs\, TN to celebrate the restorative power of nature. Held annually on the 1st Saturday in June. \nVendors\, demonstrators\, entertainers\, children’s activities\, food vendors\, the quilt show and educational sessions will happen within the historic downtown area of town. From the Palace Park through downtown\, the Village area and down to the Church of Christ building. There will be signs posted pointing to the various areas. There will also be volunteers wearing ivory t-shirts with the festival red pump logo on the front to help you find your way. You are welcome to spend the entire day with us! \nFollow us on our Facebook Page. \nEmail:  folkmedicinefestival@gmail.com
URL:https://www.armourshotel.com/event/folk-medicine-festival/2024-06-01/
LOCATION:Red Boiling Springs TN Downtown\, 252 Main Street\, Red Boiling Springs\, TN\, 37150\, United States
CATEGORIES:Festivals
ORGANIZER;CN="Vision 2020 Inc.":MAILTO:vision2020@nctc.com
END:VEVENT
BEGIN:VEVENT
DTSTART;TZID=America/Chicago:20230603T090000
DTEND;TZID=America/Chicago:20230603T160000
DTSTAMP:20260424T111238
CREATED:20220415T034807Z
LAST-MODIFIED:20230127T230845Z
UID:10000081-1685782800-1685808000@www.armourshotel.com
SUMMARY:Folk Festival
DESCRIPTION:Folk Medicine Festival\nJune 4\, 2022\nRed Boiling Springs\, TN \n \nWhere healing arts practitioners\, biodynamic farmers\, organic gardeners\, artists\, craftsmen\, singers\, musicians\, dancers\, storytellers all come together on the banks of Salt Lick Creek in Red Boiling Springs\, TN to celebrate the restorative power of nature. Held annually on the 1st Saturday in June. \nVendors\, demonstrators\, entertainers\, children’s activities\, food vendors\, the quilt show and educational sessions will happen within the historic downtown area of town. From the Palace Park through downtown\, the Village area and down to the Church of Christ building. There will be signs posted pointing to the various areas. There will also be volunteers wearing ivory t-shirts with the festival red pump logo on the front to help you find your way. You are welcome to spend the entire day with us! \nFollow us on our Facebook Page. \nEmail:  folkmedicinefestival@gmail.com
URL:https://www.armourshotel.com/event/folk-medicine-festival/2023-06-03/
LOCATION:Red Boiling Springs TN Downtown\, 252 Main Street\, Red Boiling Springs\, TN\, 37150\, United States
CATEGORIES:Festivals
ORGANIZER;CN="Vision 2020 Inc.":MAILTO:vision2020@nctc.com
END:VEVENT
BEGIN:VEVENT
DTSTART;TZID=America/Chicago:20220604T090000
DTEND;TZID=America/Chicago:20220604T160000
DTSTAMP:20260424T111238
CREATED:20220415T034807Z
LAST-MODIFIED:20230127T230845Z
UID:10000080-1654333200-1654358400@www.armourshotel.com
SUMMARY:Folk Festival
DESCRIPTION:Folk Medicine Festival\nJune 4\, 2022\nRed Boiling Springs\, TN \n \nWhere healing arts practitioners\, biodynamic farmers\, organic gardeners\, artists\, craftsmen\, singers\, musicians\, dancers\, storytellers all come together on the banks of Salt Lick Creek in Red Boiling Springs\, TN to celebrate the restorative power of nature. Held annually on the 1st Saturday in June. \nVendors\, demonstrators\, entertainers\, children’s activities\, food vendors\, the quilt show and educational sessions will happen within the historic downtown area of town. From the Palace Park through downtown\, the Village area and down to the Church of Christ building. There will be signs posted pointing to the various areas. There will also be volunteers wearing ivory t-shirts with the festival red pump logo on the front to help you find your way. You are welcome to spend the entire day with us! \nFollow us on our Facebook Page. \nEmail:  folkmedicinefestival@gmail.com
URL:https://www.armourshotel.com/event/folk-medicine-festival/2022-06-04/
LOCATION:Red Boiling Springs TN Downtown\, 252 Main Street\, Red Boiling Springs\, TN\, 37150\, United States
CATEGORIES:Festivals
ORGANIZER;CN="Vision 2020 Inc.":MAILTO:vision2020@nctc.com
END:VEVENT
END:VCALENDAR