BEGIN:VCALENDAR
VERSION:2.0
PRODID:-//Armour&#039;s Hotel &amp; Spa - ECPv6.15.17.1//NONSGML v1.0//EN
CALSCALE:GREGORIAN
METHOD:PUBLISH
X-WR-CALNAME:Armour&#039;s Hotel &amp; Spa
X-ORIGINAL-URL:https://www.armourshotel.com
X-WR-CALDESC:Events for Armour&#039;s Hotel &amp; Spa
REFRESH-INTERVAL;VALUE=DURATION:PT1H
X-Robots-Tag:noindex
X-PUBLISHED-TTL:PT1H
BEGIN:VTIMEZONE
TZID:America/Chicago
BEGIN:DAYLIGHT
TZOFFSETFROM:-0600
TZOFFSETTO:-0500
TZNAME:CDT
DTSTART:20250309T080000
END:DAYLIGHT
BEGIN:STANDARD
TZOFFSETFROM:-0500
TZOFFSETTO:-0600
TZNAME:CST
DTSTART:20251102T070000
END:STANDARD
BEGIN:DAYLIGHT
TZOFFSETFROM:-0600
TZOFFSETTO:-0500
TZNAME:CDT
DTSTART:20260308T080000
END:DAYLIGHT
BEGIN:STANDARD
TZOFFSETFROM:-0500
TZOFFSETTO:-0600
TZNAME:CST
DTSTART:20261101T070000
END:STANDARD
BEGIN:DAYLIGHT
TZOFFSETFROM:-0600
TZOFFSETTO:-0500
TZNAME:CDT
DTSTART:20270314T080000
END:DAYLIGHT
BEGIN:STANDARD
TZOFFSETFROM:-0500
TZOFFSETTO:-0600
TZNAME:CST
DTSTART:20271107T070000
END:STANDARD
END:VTIMEZONE
BEGIN:VEVENT
DTSTART;VALUE=DATE:20260410
DTEND;VALUE=DATE:20260412
DTSTAMP:20260424T110523
CREATED:20260120T004404Z
LAST-MODIFIED:20260120T035612Z
UID:10000570-1775779200-1775951999@www.armourshotel.com
SUMMARY:Andy's 100th Birthday Shindig
DESCRIPTION:You are invited to Andy’s 100th Birthday Shindig in Historic Granville\, TN . IMPORTANT UPDATE: Presenters have been confirmed\, our website\, www.granvilletn.com is currently being updated . On-line tickets sales open Thursday\, Jan 22.Allan NewsomeMayberry On MainThe Women of MayberryMayberry Meet UpMayberry Fans Club
URL:https://www.armourshotel.com/event/andys-100th-birthday-shindig/
LOCATION:Granville TN\, Granville\, Tennessee
CATEGORIES:Festivals,Live Music
ATTACH;FMTTYPE=image/jpeg:https://www.armourshotel.com/wp-content/uploads/2026/01/Granville-TN-Festival-Apr2026.jpg
ORGANIZER;CN="Historic Granville%2C TN":MAILTO:granvilletnoffice@gmail.com
END:VEVENT
END:VCALENDAR