BEGIN:VCALENDAR
VERSION:2.0
PRODID:-//Armour&#039;s Hotel &amp; Spa - ECPv6.15.17.1//NONSGML v1.0//EN
CALSCALE:GREGORIAN
METHOD:PUBLISH
X-WR-CALNAME:Armour&#039;s Hotel &amp; Spa
X-ORIGINAL-URL:https://www.armourshotel.com
X-WR-CALDESC:Events for Armour&#039;s Hotel &amp; Spa
REFRESH-INTERVAL;VALUE=DURATION:PT1H
X-Robots-Tag:noindex
X-PUBLISHED-TTL:PT1H
BEGIN:VTIMEZONE
TZID:America/Chicago
BEGIN:DAYLIGHT
TZOFFSETFROM:-0600
TZOFFSETTO:-0500
TZNAME:CDT
DTSTART:20210314T080000
END:DAYLIGHT
BEGIN:STANDARD
TZOFFSETFROM:-0500
TZOFFSETTO:-0600
TZNAME:CST
DTSTART:20211107T070000
END:STANDARD
BEGIN:DAYLIGHT
TZOFFSETFROM:-0600
TZOFFSETTO:-0500
TZNAME:CDT
DTSTART:20220313T080000
END:DAYLIGHT
BEGIN:STANDARD
TZOFFSETFROM:-0500
TZOFFSETTO:-0600
TZNAME:CST
DTSTART:20221106T070000
END:STANDARD
BEGIN:DAYLIGHT
TZOFFSETFROM:-0600
TZOFFSETTO:-0500
TZNAME:CDT
DTSTART:20230312T080000
END:DAYLIGHT
BEGIN:STANDARD
TZOFFSETFROM:-0500
TZOFFSETTO:-0600
TZNAME:CST
DTSTART:20231105T070000
END:STANDARD
BEGIN:DAYLIGHT
TZOFFSETFROM:-0600
TZOFFSETTO:-0500
TZNAME:CDT
DTSTART:20240310T080000
END:DAYLIGHT
BEGIN:STANDARD
TZOFFSETFROM:-0500
TZOFFSETTO:-0600
TZNAME:CST
DTSTART:20241103T070000
END:STANDARD
END:VTIMEZONE
BEGIN:VEVENT
DTSTART;TZID=America/Chicago:20230325T180000
DTEND;TZID=America/Chicago:20230325T200000
DTSTAMP:20260424T112429
CREATED:20220401T032853Z
LAST-MODIFIED:20230219T212002Z
UID:10000052-1679767200-1679774400@www.armourshotel.com
SUMMARY:Fourth Saturday Jam
DESCRIPTION:Every 4th Saturday at The Armour’s Hotel\, come enjoy dinner and the sweet sounds of musicians for a Tennessee Jam Session.  The music and food will fill your soul.  The band eats at 5:30\, and the music starts after that around 6 pm.  Reservations for dinner are required.   Join us for dinner and/or dessert.   All the food is home cooked and delicious.
URL:https://www.armourshotel.com/event/armours-fourth-saturday-jam-2022-05-28/2023-03-25/
LOCATION:The Armour’s Hotel & Spa\, 321 E. Main St.\, Red Boiling Springs\, TN\, 37150
CATEGORIES:Armour's Hotel Events,Live Music
ATTACH;FMTTYPE=image/jpeg:https://www.armourshotel.com/wp-content/uploads/2022/03/2022-03-26-20.08.43-scaled-e1648783844165.jpg
END:VEVENT
BEGIN:VEVENT
DTSTART;TZID=America/Chicago:20230225T180000
DTEND;TZID=America/Chicago:20230225T200000
DTSTAMP:20260424T112429
CREATED:20220401T032853Z
LAST-MODIFIED:20230219T212002Z
UID:10000051-1677348000-1677355200@www.armourshotel.com
SUMMARY:Fourth Saturday Jam
DESCRIPTION:Every 4th Saturday at The Armour’s Hotel\, come enjoy dinner and the sweet sounds of musicians for a Tennessee Jam Session.  The music and food will fill your soul.  The band eats at 5:30\, and the music starts after that around 6 pm.  Reservations for dinner are required.   Join us for dinner and/or dessert.   All the food is home cooked and delicious.
URL:https://www.armourshotel.com/event/armours-fourth-saturday-jam-2022-05-28/2023-02-25/
LOCATION:The Armour’s Hotel & Spa\, 321 E. Main St.\, Red Boiling Springs\, TN\, 37150
CATEGORIES:Armour's Hotel Events,Live Music
ATTACH;FMTTYPE=image/jpeg:https://www.armourshotel.com/wp-content/uploads/2022/03/2022-03-26-20.08.43-scaled-e1648783844165.jpg
END:VEVENT
BEGIN:VEVENT
DTSTART;TZID=America/Chicago:20230128T180000
DTEND;TZID=America/Chicago:20230128T200000
DTSTAMP:20260424T112429
CREATED:20220401T032853Z
LAST-MODIFIED:20230219T212002Z
UID:10000050-1674928800-1674936000@www.armourshotel.com
SUMMARY:Fourth Saturday Jam
DESCRIPTION:Every 4th Saturday at The Armour’s Hotel\, come enjoy dinner and the sweet sounds of musicians for a Tennessee Jam Session.  The music and food will fill your soul.  The band eats at 5:30\, and the music starts after that around 6 pm.  Reservations for dinner are required.   Join us for dinner and/or dessert.   All the food is home cooked and delicious.
URL:https://www.armourshotel.com/event/armours-fourth-saturday-jam-2022-05-28/2023-01-28/
LOCATION:The Armour’s Hotel & Spa\, 321 E. Main St.\, Red Boiling Springs\, TN\, 37150
CATEGORIES:Armour's Hotel Events,Live Music
ATTACH;FMTTYPE=image/jpeg:https://www.armourshotel.com/wp-content/uploads/2022/03/2022-03-26-20.08.43-scaled-e1648783844165.jpg
END:VEVENT
BEGIN:VEVENT
DTSTART;TZID=America/Chicago:20221224T180000
DTEND;TZID=America/Chicago:20221224T200000
DTSTAMP:20260424T112429
CREATED:20220401T032853Z
LAST-MODIFIED:20230219T212002Z
UID:10000049-1671904800-1671912000@www.armourshotel.com
SUMMARY:Fourth Saturday Jam
DESCRIPTION:Every 4th Saturday at The Armour’s Hotel\, come enjoy dinner and the sweet sounds of musicians for a Tennessee Jam Session.  The music and food will fill your soul.  The band eats at 5:30\, and the music starts after that around 6 pm.  Reservations for dinner are required.   Join us for dinner and/or dessert.   All the food is home cooked and delicious.
URL:https://www.armourshotel.com/event/armours-fourth-saturday-jam-2022-05-28/2022-12-24/
LOCATION:The Armour’s Hotel & Spa\, 321 E. Main St.\, Red Boiling Springs\, TN\, 37150
CATEGORIES:Armour's Hotel Events,Live Music
ATTACH;FMTTYPE=image/jpeg:https://www.armourshotel.com/wp-content/uploads/2022/03/2022-03-26-20.08.43-scaled-e1648783844165.jpg
END:VEVENT
BEGIN:VEVENT
DTSTART;TZID=America/Chicago:20221126T180000
DTEND;TZID=America/Chicago:20221126T200000
DTSTAMP:20260424T112429
CREATED:20220401T032853Z
LAST-MODIFIED:20230219T212002Z
UID:10000048-1669485600-1669492800@www.armourshotel.com
SUMMARY:Fourth Saturday Jam
DESCRIPTION:Every 4th Saturday at The Armour’s Hotel\, come enjoy dinner and the sweet sounds of musicians for a Tennessee Jam Session.  The music and food will fill your soul.  The band eats at 5:30\, and the music starts after that around 6 pm.  Reservations for dinner are required.   Join us for dinner and/or dessert.   All the food is home cooked and delicious.
URL:https://www.armourshotel.com/event/armours-fourth-saturday-jam-2022-05-28/2022-11-26/
LOCATION:The Armour’s Hotel & Spa\, 321 E. Main St.\, Red Boiling Springs\, TN\, 37150
CATEGORIES:Armour's Hotel Events,Live Music
ATTACH;FMTTYPE=image/jpeg:https://www.armourshotel.com/wp-content/uploads/2022/03/2022-03-26-20.08.43-scaled-e1648783844165.jpg
END:VEVENT
BEGIN:VEVENT
DTSTART;TZID=America/Chicago:20221022T180000
DTEND;TZID=America/Chicago:20221022T200000
DTSTAMP:20260424T112429
CREATED:20220401T032853Z
LAST-MODIFIED:20230219T212002Z
UID:10000047-1666461600-1666468800@www.armourshotel.com
SUMMARY:Fourth Saturday Jam
DESCRIPTION:Every 4th Saturday at The Armour’s Hotel\, come enjoy dinner and the sweet sounds of musicians for a Tennessee Jam Session.  The music and food will fill your soul.  The band eats at 5:30\, and the music starts after that around 6 pm.  Reservations for dinner are required.   Join us for dinner and/or dessert.   All the food is home cooked and delicious.
URL:https://www.armourshotel.com/event/armours-fourth-saturday-jam-2022-05-28/2022-10-22/
LOCATION:The Armour’s Hotel & Spa\, 321 E. Main St.\, Red Boiling Springs\, TN\, 37150
CATEGORIES:Armour's Hotel Events,Live Music
ATTACH;FMTTYPE=image/jpeg:https://www.armourshotel.com/wp-content/uploads/2022/03/2022-03-26-20.08.43-scaled-e1648783844165.jpg
END:VEVENT
BEGIN:VEVENT
DTSTART;TZID=America/Chicago:20220924T180000
DTEND;TZID=America/Chicago:20220924T200000
DTSTAMP:20260424T112429
CREATED:20220401T032853Z
LAST-MODIFIED:20230219T212002Z
UID:10000046-1664042400-1664049600@www.armourshotel.com
SUMMARY:Fourth Saturday Jam
DESCRIPTION:Every 4th Saturday at The Armour’s Hotel\, come enjoy dinner and the sweet sounds of musicians for a Tennessee Jam Session.  The music and food will fill your soul.  The band eats at 5:30\, and the music starts after that around 6 pm.  Reservations for dinner are required.   Join us for dinner and/or dessert.   All the food is home cooked and delicious.
URL:https://www.armourshotel.com/event/armours-fourth-saturday-jam-2022-05-28/2022-09-24/
LOCATION:The Armour’s Hotel & Spa\, 321 E. Main St.\, Red Boiling Springs\, TN\, 37150
CATEGORIES:Armour's Hotel Events,Live Music
ATTACH;FMTTYPE=image/jpeg:https://www.armourshotel.com/wp-content/uploads/2022/03/2022-03-26-20.08.43-scaled-e1648783844165.jpg
END:VEVENT
BEGIN:VEVENT
DTSTART;TZID=America/Chicago:20220827T180000
DTEND;TZID=America/Chicago:20220827T200000
DTSTAMP:20260424T112429
CREATED:20220401T032853Z
LAST-MODIFIED:20230219T212002Z
UID:10000045-1661623200-1661630400@www.armourshotel.com
SUMMARY:Fourth Saturday Jam
DESCRIPTION:Every 4th Saturday at The Armour’s Hotel\, come enjoy dinner and the sweet sounds of musicians for a Tennessee Jam Session.  The music and food will fill your soul.  The band eats at 5:30\, and the music starts after that around 6 pm.  Reservations for dinner are required.   Join us for dinner and/or dessert.   All the food is home cooked and delicious.
URL:https://www.armourshotel.com/event/armours-fourth-saturday-jam-2022-05-28/2022-08-27/
LOCATION:The Armour’s Hotel & Spa\, 321 E. Main St.\, Red Boiling Springs\, TN\, 37150
CATEGORIES:Armour's Hotel Events,Live Music
ATTACH;FMTTYPE=image/jpeg:https://www.armourshotel.com/wp-content/uploads/2022/03/2022-03-26-20.08.43-scaled-e1648783844165.jpg
END:VEVENT
BEGIN:VEVENT
DTSTART;TZID=America/Chicago:20220723T180000
DTEND;TZID=America/Chicago:20220723T200000
DTSTAMP:20260424T112429
CREATED:20220401T032853Z
LAST-MODIFIED:20230219T212002Z
UID:10000044-1658599200-1658606400@www.armourshotel.com
SUMMARY:Fourth Saturday Jam
DESCRIPTION:Every 4th Saturday at The Armour’s Hotel\, come enjoy dinner and the sweet sounds of musicians for a Tennessee Jam Session.  The music and food will fill your soul.  The band eats at 5:30\, and the music starts after that around 6 pm.  Reservations for dinner are required.   Join us for dinner and/or dessert.   All the food is home cooked and delicious.
URL:https://www.armourshotel.com/event/armours-fourth-saturday-jam-2022-05-28/2022-07-23/
LOCATION:The Armour’s Hotel & Spa\, 321 E. Main St.\, Red Boiling Springs\, TN\, 37150
CATEGORIES:Armour's Hotel Events,Live Music
ATTACH;FMTTYPE=image/jpeg:https://www.armourshotel.com/wp-content/uploads/2022/03/2022-03-26-20.08.43-scaled-e1648783844165.jpg
END:VEVENT
BEGIN:VEVENT
DTSTART;TZID=America/Chicago:20220625T180000
DTEND;TZID=America/Chicago:20220625T200000
DTSTAMP:20260424T112429
CREATED:20220401T032853Z
LAST-MODIFIED:20230219T212002Z
UID:10000043-1656180000-1656187200@www.armourshotel.com
SUMMARY:Fourth Saturday Jam
DESCRIPTION:Every 4th Saturday at The Armour’s Hotel\, come enjoy dinner and the sweet sounds of musicians for a Tennessee Jam Session.  The music and food will fill your soul.  The band eats at 5:30\, and the music starts after that around 6 pm.  Reservations for dinner are required.   Join us for dinner and/or dessert.   All the food is home cooked and delicious.
URL:https://www.armourshotel.com/event/armours-fourth-saturday-jam-2022-05-28/2022-06-25/
LOCATION:The Armour’s Hotel & Spa\, 321 E. Main St.\, Red Boiling Springs\, TN\, 37150
CATEGORIES:Armour's Hotel Events,Live Music
ATTACH;FMTTYPE=image/jpeg:https://www.armourshotel.com/wp-content/uploads/2022/03/2022-03-26-20.08.43-scaled-e1648783844165.jpg
END:VEVENT
BEGIN:VEVENT
DTSTART;TZID=America/Chicago:20220528T180000
DTEND;TZID=America/Chicago:20220528T200000
DTSTAMP:20260424T112429
CREATED:20220401T032853Z
LAST-MODIFIED:20230219T212002Z
UID:10000042-1653760800-1653768000@www.armourshotel.com
SUMMARY:Fourth Saturday Jam
DESCRIPTION:Every 4th Saturday at The Armour’s Hotel\, come enjoy dinner and the sweet sounds of musicians for a Tennessee Jam Session.  The music and food will fill your soul.  The band eats at 5:30\, and the music starts after that around 6 pm.  Reservations for dinner are required.   Join us for dinner and/or dessert.   All the food is home cooked and delicious.
URL:https://www.armourshotel.com/event/armours-fourth-saturday-jam-2022-05-28/2022-05-28/
LOCATION:The Armour’s Hotel & Spa\, 321 E. Main St.\, Red Boiling Springs\, TN\, 37150
CATEGORIES:Armour's Hotel Events,Live Music
ATTACH;FMTTYPE=image/jpeg:https://www.armourshotel.com/wp-content/uploads/2022/03/2022-03-26-20.08.43-scaled-e1648783844165.jpg
END:VEVENT
BEGIN:VEVENT
DTSTART;TZID=America/Chicago:20220423T180000
DTEND;TZID=America/Chicago:20220423T200000
DTSTAMP:20260424T112429
CREATED:20220401T032853Z
LAST-MODIFIED:20220416T205647Z
UID:10000041-1650736800-1650744000@www.armourshotel.com
SUMMARY:Fourth Saturday Jam
DESCRIPTION:Every 4th Saturday at The Armour’s Hotel\, come enjoy dinner and the sweet sounds of muscians for a Tennessee Jam Session.  The music and food will fill your soul.  The band eats at 5:30\, and the music starts after that around 6 pm.  Reservations for dinner are required.   Join us for dinner and/or dessert.   All the food is home cooked and delicious.
URL:https://www.armourshotel.com/event/armours-fourth-saturday-jam/
LOCATION:The Armour’s Hotel & Spa\, 321 E. Main St.\, Red Boiling Springs\, TN\, 37150
CATEGORIES:Armour's Hotel Events,Live Music
ATTACH;FMTTYPE=image/jpeg:https://www.armourshotel.com/wp-content/uploads/2022/03/2022-03-26-20.08.43-scaled-e1648783844165.jpg
END:VEVENT
END:VCALENDAR